Package: BBCAnalyzer Version: 1.22.0 Command: C:\cygwin\bin\curl.exe -O http://155.52.207.165/BBS/3.13/bioc/src/contrib/BBCAnalyzer_1.22.0.tar.gz && rm -rf BBCAnalyzer.buildbin-libdir && mkdir BBCAnalyzer.buildbin-libdir && C:\Users\biocbuild\bbs-3.13-bioc\R\bin\R.exe CMD INSTALL --merge-multiarch --build --library=BBCAnalyzer.buildbin-libdir BBCAnalyzer_1.22.0.tar.gz && C:\Users\biocbuild\bbs-3.13-bioc\R\bin\R.exe CMD INSTALL BBCAnalyzer_1.22.0.zip && rm BBCAnalyzer_1.22.0.tar.gz BBCAnalyzer_1.22.0.zip StartedAt: 2021-10-14 10:49:27 -0400 (Thu, 14 Oct 2021) EndedAt: 2021-10-14 10:50:54 -0400 (Thu, 14 Oct 2021) EllapsedTime: 87.3 seconds RetCode: 0 Status: OK