Package: BEARscc Version: 1.12.0 Command: rm -rf BEARscc.buildbin-libdir && mkdir BEARscc.buildbin-libdir && /Users/biocbuild/BBS/utils/build-universal.sh BEARscc_1.12.0.tar.gz /Library/Frameworks/R.framework/Versions/Current/Resources/bin/R BEARscc.buildbin-libdir StartedAt: 2021-10-15 01:41:21 -0400 (Fri, 15 Oct 2021) EndedAt: 2021-10-15 01:42:30 -0400 (Fri, 15 Oct 2021) EllapsedTime: 69.0 seconds RetCode: 0 Status: OK PackageFile: BEARscc_1.12.0.tgz PackageFileSize: 684.7 KiB