Package: BEARscc Version: 1.12.0 Command: /Library/Frameworks/R.framework/Versions/Current/Resources/bin/R CMD INSTALL BEARscc StartedAt: 2021-10-14 09:13:11 -0400 (Thu, 14 Oct 2021) EndedAt: 2021-10-14 09:14:02 -0400 (Thu, 14 Oct 2021) EllapsedTime: 50.9 seconds RetCode: 0 Status: OK