Package: BEAT Version: 1.30.0 Command: C:\cygwin\bin\curl.exe -O http://155.52.207.165/BBS/3.13/bioc/src/contrib/BEAT_1.30.0.tar.gz && rm -rf BEAT.buildbin-libdir && mkdir BEAT.buildbin-libdir && C:\Users\biocbuild\bbs-3.13-bioc\R\bin\R.exe CMD INSTALL --merge-multiarch --build --library=BEAT.buildbin-libdir BEAT_1.30.0.tar.gz && C:\Users\biocbuild\bbs-3.13-bioc\R\bin\R.exe CMD INSTALL BEAT_1.30.0.zip && rm BEAT_1.30.0.tar.gz BEAT_1.30.0.zip StartedAt: 2021-10-14 10:18:48 -0400 (Thu, 14 Oct 2021) EndedAt: 2021-10-14 10:19:40 -0400 (Thu, 14 Oct 2021) EllapsedTime: 52.6 seconds RetCode: 0 Status: OK