Package: BEclear Version: 2.8.0 Command: /home/biocbuild/bbs-3.13-bioc/R/bin/R CMD build --keep-empty-dirs --no-resave-data BEclear StartedAt: 2021-10-14 06:45:44 -0400 (Thu, 14 Oct 2021) EndedAt: 2021-10-14 06:46:20 -0400 (Thu, 14 Oct 2021) EllapsedTime: 36.1 seconds RetCode: 0 Status: OK PackageFile: BEclear_2.8.0.tar.gz PackageFileSize: 690.1 KiB