Package: BRGenomics Version: 1.4.0 Command: /Library/Frameworks/R.framework/Versions/Current/Resources/bin/R CMD build --keep-empty-dirs --no-resave-data BRGenomics StartedAt: 2021-10-14 10:58:52 -0400 (Thu, 14 Oct 2021) EndedAt: 2021-10-14 11:00:44 -0400 (Thu, 14 Oct 2021) EllapsedTime: 112.0 seconds RetCode: 0 Status: OK PackageFile: BRGenomics_1.4.0.tar.gz PackageFileSize: 3.722 MiB