Package: BRGenomics Version: 1.4.0 Command: /Library/Frameworks/R.framework/Versions/Current/Resources/bin/R CMD check --install=check:BRGenomics.install-out.txt --library=/Library/Frameworks/R.framework/Versions/Current/Resources/library --no-vignettes --timings BRGenomics_1.4.0.tar.gz StartedAt: 2021-10-14 16:56:46 -0400 (Thu, 14 Oct 2021) EndedAt: 2021-10-14 17:06:22 -0400 (Thu, 14 Oct 2021) EllapsedTime: 576.3 seconds RetCode: 0 Status: WARNINGS CheckDir: BRGenomics.Rcheck Warnings: 1