Package: BSgenome Version: 1.60.0 Command: rm -rf BSgenome.buildbin-libdir && mkdir BSgenome.buildbin-libdir && /Users/biocbuild/BBS/utils/build-universal.sh BSgenome_1.60.0.tar.gz /Library/Frameworks/R.framework/Versions/Current/Resources/bin/R BSgenome.buildbin-libdir StartedAt: 2021-10-15 01:48:06 -0400 (Fri, 15 Oct 2021) EndedAt: 2021-10-15 01:49:17 -0400 (Fri, 15 Oct 2021) EllapsedTime: 71.5 seconds RetCode: 0 Status: OK PackageFile: BSgenome_1.60.0.tgz PackageFileSize: 7.202 MiB