Package: BSgenome Version: 1.60.0 Command: /Library/Frameworks/R.framework/Versions/Current/Resources/bin/R CMD check --install=check:BSgenome.install-out.txt --library=/Library/Frameworks/R.framework/Versions/Current/Resources/library --no-vignettes --timings BSgenome_1.60.0.tar.gz StartedAt: 2021-10-14 16:57:43 -0400 (Thu, 14 Oct 2021) EndedAt: 2021-10-14 17:05:03 -0400 (Thu, 14 Oct 2021) EllapsedTime: 440.3 seconds RetCode: 0 Status: WARNINGS CheckDir: BSgenome.Rcheck Warnings: 2