Package: BSgenome Version: 1.60.0 Command: /home/biocbuild/bbs-3.13-bioc/R/bin/R CMD check --install=check:BSgenome.install-out.txt --library=/home/biocbuild/bbs-3.13-bioc/R/library --no-vignettes --timings BSgenome_1.60.0.tar.gz StartedAt: 2021-10-14 09:06:13 -0400 (Thu, 14 Oct 2021) EndedAt: 2021-10-14 09:11:49 -0400 (Thu, 14 Oct 2021) EllapsedTime: 335.9 seconds RetCode: 0 Status: WARNINGS CheckDir: BSgenome.Rcheck Warnings: 2