Package: BSgenome Version: 1.60.0 Command: chmod a+r BSgenome -R && C:\Users\biocbuild\bbs-3.13-bioc\R\bin\R.exe CMD build --keep-empty-dirs --no-resave-data BSgenome StartedAt: 2021-10-14 12:26:52 -0400 (Thu, 14 Oct 2021) EndedAt: 2021-10-14 12:29:23 -0400 (Thu, 14 Oct 2021) EllapsedTime: 151.7 seconds RetCode: 0 Status: OK PackageFile: BSgenome_1.60.0.tar.gz PackageFileSize: 5.802 MiB