Package: BUS Version: 1.48.0 Command: chmod a+r BUS -R && C:\Users\biocbuild\bbs-3.13-bioc\R\bin\R.exe CMD build --keep-empty-dirs --no-resave-data BUS StartedAt: 2021-10-14 12:28:08 -0400 (Thu, 14 Oct 2021) EndedAt: 2021-10-14 12:28:54 -0400 (Thu, 14 Oct 2021) EllapsedTime: 45.5 seconds RetCode: 0 Status: OK PackageFile: BUS_1.48.0.tar.gz PackageFileSize: 2.76 MiB