Package: BUScorrect Version: 1.10.0 Command: /Library/Frameworks/R.framework/Versions/Current/Resources/bin/R CMD build --keep-empty-dirs --no-resave-data BUScorrect StartedAt: 2021-10-14 11:00:20 -0400 (Thu, 14 Oct 2021) EndedAt: 2021-10-14 11:02:44 -0400 (Thu, 14 Oct 2021) EllapsedTime: 144.3 seconds RetCode: 0 Status: OK PackageFile: BUScorrect_1.10.0.tar.gz PackageFileSize: 3.51 MiB