Package: BUScorrect Version: 1.10.0 Command: /Library/Frameworks/R.framework/Versions/Current/Resources/bin/R CMD INSTALL BUScorrect StartedAt: 2021-10-14 09:06:05 -0400 (Thu, 14 Oct 2021) EndedAt: 2021-10-14 09:06:43 -0400 (Thu, 14 Oct 2021) EllapsedTime: 38.3 seconds RetCode: 0 Status: OK