Package: BUScorrect Version: 1.10.0 Command: C:\cygwin\bin\curl.exe -O http://155.52.207.165/BBS/3.13/bioc/src/contrib/BUScorrect_1.10.0.tar.gz && rm -rf BUScorrect.buildbin-libdir && mkdir BUScorrect.buildbin-libdir && C:\Users\biocbuild\bbs-3.13-bioc\R\bin\R.exe CMD INSTALL --merge-multiarch --build --library=BUScorrect.buildbin-libdir BUScorrect_1.10.0.tar.gz && C:\Users\biocbuild\bbs-3.13-bioc\R\bin\R.exe CMD INSTALL BUScorrect_1.10.0.zip && rm BUScorrect_1.10.0.tar.gz BUScorrect_1.10.0.zip StartedAt: 2021-10-14 08:45:31 -0400 (Thu, 14 Oct 2021) EndedAt: 2021-10-14 08:46:19 -0400 (Thu, 14 Oct 2021) EllapsedTime: 48.8 seconds RetCode: 0 Status: OK