Package: BaalChIP Version: 1.18.0 Command: rm -rf BaalChIP.buildbin-libdir && mkdir BaalChIP.buildbin-libdir && /Users/biocbuild/BBS/utils/build-universal.sh BaalChIP_1.18.0.tar.gz /Library/Frameworks/R.framework/Versions/Current/Resources/bin/R BaalChIP.buildbin-libdir StartedAt: 2021-10-15 01:38:21 -0400 (Fri, 15 Oct 2021) EndedAt: 2021-10-15 01:40:35 -0400 (Fri, 15 Oct 2021) EllapsedTime: 133.9 seconds RetCode: 0 Status: OK PackageFile: BaalChIP_1.18.0.tgz PackageFileSize: 107 MiB