Package: BaalChIP Version: 1.18.0 Command: /Library/Frameworks/R.framework/Versions/Current/Resources/bin/R CMD build --keep-empty-dirs --no-resave-data BaalChIP StartedAt: 2021-10-14 10:41:05 -0400 (Thu, 14 Oct 2021) EndedAt: 2021-10-14 10:43:54 -0400 (Thu, 14 Oct 2021) EllapsedTime: 168.4 seconds RetCode: 0 Status: OK PackageFile: BaalChIP_1.18.0.tar.gz PackageFileSize: 45.15 MiB