Package: BaalChIP Version: 1.18.0 Command: chmod a+r BaalChIP -R && C:\Users\biocbuild\bbs-3.13-bioc\R\bin\R.exe CMD build --keep-empty-dirs --no-resave-data BaalChIP StartedAt: 2021-10-14 11:51:13 -0400 (Thu, 14 Oct 2021) EndedAt: 2021-10-14 11:54:24 -0400 (Thu, 14 Oct 2021) EllapsedTime: 190.5 seconds RetCode: 0 Status: OK PackageFile: BaalChIP_1.18.0.tar.gz PackageFileSize: 44.73 MiB