Package: Basic4Cseq Version: 1.28.0 Command: C:\Users\biocbuild\bbs-3.13-bioc\R\bin\R.exe CMD check --force-multiarch --install=check:Basic4Cseq.install-out.txt --library=C:\Users\biocbuild\bbs-3.13-bioc\R\library --no-vignettes --timings Basic4Cseq_1.28.0.tar.gz StartedAt: 2021-10-14 19:51:56 -0400 (Thu, 14 Oct 2021) EndedAt: 2021-10-14 19:56:43 -0400 (Thu, 14 Oct 2021) EllapsedTime: 287.3 seconds RetCode: 0 Status: OK CheckDir: Basic4Cseq.Rcheck Warnings: 0