Package: BasicSTARRseq Version: 1.20.0 Command: /home/biocbuild/bbs-3.13-bioc/R/bin/R CMD build --keep-empty-dirs --no-resave-data BasicSTARRseq StartedAt: 2021-10-14 06:44:46 -0400 (Thu, 14 Oct 2021) EndedAt: 2021-10-14 06:45:15 -0400 (Thu, 14 Oct 2021) EllapsedTime: 29.0 seconds RetCode: 0 Status: OK PackageFile: BasicSTARRseq_1.20.0.tar.gz PackageFileSize: 459.9 KiB