Package: BasicSTARRseq Version: 1.20.0 Command: chmod a+r BasicSTARRseq -R && C:\Users\biocbuild\bbs-3.13-bioc\R\bin\R.exe CMD build --keep-empty-dirs --no-resave-data BasicSTARRseq StartedAt: 2021-10-14 11:55:05 -0400 (Thu, 14 Oct 2021) EndedAt: 2021-10-14 11:56:29 -0400 (Thu, 14 Oct 2021) EllapsedTime: 84.3 seconds RetCode: 0 Status: OK PackageFile: BasicSTARRseq_1.20.0.tar.gz PackageFileSize: 460.6 KiB