Package: BasicSTARRseq Version: 1.20.0 Command: C:\Users\biocbuild\bbs-3.13-bioc\R\bin\R.exe CMD check --force-multiarch --install=check:BasicSTARRseq.install-out.txt --library=C:\Users\biocbuild\bbs-3.13-bioc\R\library --no-vignettes --timings BasicSTARRseq_1.20.0.tar.gz StartedAt: 2021-10-14 19:52:24 -0400 (Thu, 14 Oct 2021) EndedAt: 2021-10-14 19:56:02 -0400 (Thu, 14 Oct 2021) EllapsedTime: 217.8 seconds RetCode: 0 Status: OK CheckDir: BasicSTARRseq.Rcheck Warnings: 0