Package: BiSeq Version: 1.32.0 Command: /Library/Frameworks/R.framework/Versions/Current/Resources/bin/R CMD check --install=check:BiSeq.install-out.txt --library=/Library/Frameworks/R.framework/Versions/Current/Resources/library --no-vignettes --timings BiSeq_1.32.0.tar.gz StartedAt: 2021-10-14 16:51:56 -0400 (Thu, 14 Oct 2021) EndedAt: 2021-10-14 16:58:47 -0400 (Thu, 14 Oct 2021) EllapsedTime: 410.9 seconds RetCode: 0 Status: OK CheckDir: BiSeq.Rcheck Warnings: 0