Package: BiSeq Version: 1.32.0 Command: /Library/Frameworks/R.framework/Versions/Current/Resources/bin/R CMD INSTALL BiSeq StartedAt: 2021-10-14 09:59:50 -0400 (Thu, 14 Oct 2021) EndedAt: 2021-10-14 10:00:37 -0400 (Thu, 14 Oct 2021) EllapsedTime: 46.7 seconds RetCode: 0 Status: OK