Package: BiSeq Version: 1.32.0 Command: /home/biocbuild/bbs-3.13-bioc/R/bin/R CMD check --install=check:BiSeq.install-out.txt --library=/home/biocbuild/bbs-3.13-bioc/R/library --no-vignettes --timings BiSeq_1.32.0.tar.gz StartedAt: 2021-10-14 09:04:01 -0400 (Thu, 14 Oct 2021) EndedAt: 2021-10-14 09:08:56 -0400 (Thu, 14 Oct 2021) EllapsedTime: 295.6 seconds RetCode: 0 Status: OK CheckDir: BiSeq.Rcheck Warnings: 0