git_url: https://git.bioconductor.org/packages/BicARE git_branch: RELEASE_3_13 git_last_commit: 8c27ce5 git_last_commit_date: 2021-05-19 11:42:14 -0400 (Wed, 19 May 2021) Package: BicARE Version: 1.50.0 Maintainer: Pierre Gestraud MaintainerEmail: pierre.gestraud at curie.fr