Package: BicARE Version: 1.50.0 Command: /home/biocbuild/bbs-3.13-bioc/R/bin/R CMD check --install=check:BicARE.install-out.txt --library=/home/biocbuild/bbs-3.13-bioc/R/library --no-vignettes --timings BicARE_1.50.0.tar.gz StartedAt: 2021-10-14 08:59:38 -0400 (Thu, 14 Oct 2021) EndedAt: 2021-10-14 09:06:49 -0400 (Thu, 14 Oct 2021) EllapsedTime: 430.3 seconds RetCode: 0 Status: OK CheckDir: BicARE.Rcheck Warnings: 0