Package: BicARE Version: 1.50.0 Command: chmod a+r BicARE -R && C:\Users\biocbuild\bbs-3.13-bioc\R\bin\R.exe CMD build --keep-empty-dirs --no-resave-data BicARE StartedAt: 2021-10-14 11:59:55 -0400 (Thu, 14 Oct 2021) EndedAt: 2021-10-14 12:02:05 -0400 (Thu, 14 Oct 2021) EllapsedTime: 130.2 seconds RetCode: 0 Status: OK PackageFile: BicARE_1.50.0.tar.gz PackageFileSize: 365.4 KiB