Package: BioMM Version: 1.8.0 Command: /Library/Frameworks/R.framework/Versions/Current/Resources/bin/R CMD INSTALL BioMM StartedAt: 2021-10-14 09:02:06 -0400 (Thu, 14 Oct 2021) EndedAt: 2021-10-14 09:03:05 -0400 (Thu, 14 Oct 2021) EllapsedTime: 59.5 seconds RetCode: 0 Status: OK