Package: BioMM Version: 1.8.0 Command: /home/biocbuild/bbs-3.13-bioc/R/bin/R CMD build --keep-empty-dirs --no-resave-data BioMM StartedAt: 2021-10-14 06:48:05 -0400 (Thu, 14 Oct 2021) EndedAt: 2021-10-14 06:49:37 -0400 (Thu, 14 Oct 2021) EllapsedTime: 91.7 seconds RetCode: 0 Status: OK PackageFile: BioMM_1.8.0.tar.gz PackageFileSize: 2.839 MiB