Package: BioNERO Version: 1.0.4 Command: /home/biocbuild/bbs-3.13-bioc/R/bin/R CMD build --keep-empty-dirs --no-resave-data BioNERO StartedAt: 2021-10-14 06:48:08 -0400 (Thu, 14 Oct 2021) EndedAt: 2021-10-14 06:53:46 -0400 (Thu, 14 Oct 2021) EllapsedTime: 337.7 seconds RetCode: 0 Status: OK PackageFile: BioNERO_1.0.4.tar.gz PackageFileSize: 4.508 MiB