Package: BioNERO Version: 1.0.4 Command: rm -rf BioNERO.buildbin-libdir && mkdir BioNERO.buildbin-libdir && C:\Users\biocbuild\bbs-3.13-bioc\R\bin\R.exe CMD INSTALL --merge-multiarch --build --library=BioNERO.buildbin-libdir BioNERO_1.0.4.tar.gz StartedAt: 2021-10-15 08:17:00 -0400 (Fri, 15 Oct 2021) EndedAt: 2021-10-15 08:18:25 -0400 (Fri, 15 Oct 2021) EllapsedTime: 85.2 seconds RetCode: 0 Status: OK PackageFile: BioNERO_1.0.4.zip PackageFileSize: 3.861 MiB