Package: BioNERO Version: 1.0.4 Command: chmod a+r BioNERO -R && C:\Users\biocbuild\bbs-3.13-bioc\R\bin\R.exe CMD build --keep-empty-dirs --no-resave-data BioNERO StartedAt: 2021-10-14 12:06:31 -0400 (Thu, 14 Oct 2021) EndedAt: 2021-10-14 12:26:39 -0400 (Thu, 14 Oct 2021) EllapsedTime: 1207.7 seconds RetCode: 0 Status: OK PackageFile: BioNERO_1.0.4.tar.gz PackageFileSize: 3.61 MiB