Package: BioNetStat Version: 1.12.0 Command: rm -rf BioNetStat.buildbin-libdir && mkdir BioNetStat.buildbin-libdir && /Users/biocbuild/BBS/utils/build-universal.sh BioNetStat_1.12.0.tar.gz /Library/Frameworks/R.framework/Versions/Current/Resources/bin/R BioNetStat.buildbin-libdir StartedAt: 2021-10-15 01:45:35 -0400 (Fri, 15 Oct 2021) EndedAt: 2021-10-15 01:46:44 -0400 (Fri, 15 Oct 2021) EllapsedTime: 69.5 seconds RetCode: 0 Status: OK PackageFile: BioNetStat_1.12.0.tgz PackageFileSize: 3.008 MiB