Package: BioNetStat Version: 1.12.0 Command: /Library/Frameworks/R.framework/Versions/Current/Resources/bin/R CMD build --keep-empty-dirs --no-resave-data BioNetStat StartedAt: 2021-10-14 10:53:39 -0400 (Thu, 14 Oct 2021) EndedAt: 2021-10-14 10:54:24 -0400 (Thu, 14 Oct 2021) EllapsedTime: 44.4 seconds RetCode: 0 Status: OK PackageFile: BioNetStat_1.12.0.tar.gz PackageFileSize: 2.879 MiB