Package: BioNetStat Version: 1.12.0 Command: C:\cygwin\bin\curl.exe -O http://155.52.207.165/BBS/3.13/bioc/src/contrib/BioNetStat_1.12.0.tar.gz && rm -rf BioNetStat.buildbin-libdir && mkdir BioNetStat.buildbin-libdir && C:\Users\biocbuild\bbs-3.13-bioc\R\bin\R.exe CMD INSTALL --merge-multiarch --build --library=BioNetStat.buildbin-libdir BioNetStat_1.12.0.tar.gz && C:\Users\biocbuild\bbs-3.13-bioc\R\bin\R.exe CMD INSTALL BioNetStat_1.12.0.zip && rm BioNetStat_1.12.0.tar.gz BioNetStat_1.12.0.zip StartedAt: 2021-10-14 11:20:40 -0400 (Thu, 14 Oct 2021) EndedAt: 2021-10-14 11:22:10 -0400 (Thu, 14 Oct 2021) EllapsedTime: 89.9 seconds RetCode: 0 Status: OK