Package: Biobase Version: 2.52.0 Command: /home/biocbuild/bbs-3.13-bioc/R/bin/R CMD check --install=check:Biobase.install-out.txt --library=/home/biocbuild/bbs-3.13-bioc/R/library --no-vignettes --timings Biobase_2.52.0.tar.gz StartedAt: 2021-10-14 09:00:12 -0400 (Thu, 14 Oct 2021) EndedAt: 2021-10-14 09:01:21 -0400 (Thu, 14 Oct 2021) EllapsedTime: 69.2 seconds RetCode: 0 Status: OK CheckDir: Biobase.Rcheck Warnings: 0