Package: BiocOncoTK Version: 1.12.1 Command: rm -rf BiocOncoTK.buildbin-libdir && mkdir BiocOncoTK.buildbin-libdir && /Users/biocbuild/BBS/utils/build-universal.sh BiocOncoTK_1.12.1.tar.gz /Library/Frameworks/R.framework/Versions/Current/Resources/bin/R BiocOncoTK.buildbin-libdir StartedAt: 2021-10-15 01:43:41 -0400 (Fri, 15 Oct 2021) EndedAt: 2021-10-15 01:44:45 -0400 (Fri, 15 Oct 2021) EllapsedTime: 64.0 seconds RetCode: 0 Status: OK PackageFile: BiocOncoTK_1.12.1.tgz PackageFileSize: 9.131 MiB