Package: BiocOncoTK Version: 1.12.1 Command: /Library/Frameworks/R.framework/Versions/Current/Resources/bin/R CMD build --keep-empty-dirs --no-resave-data BiocOncoTK StartedAt: 2021-10-14 10:51:19 -0400 (Thu, 14 Oct 2021) EndedAt: 2021-10-14 10:53:33 -0400 (Thu, 14 Oct 2021) EllapsedTime: 133.7 seconds RetCode: 0 Status: OK PackageFile: BiocOncoTK_1.12.1.tar.gz PackageFileSize: 9.389 MiB