Package: BiocOncoTK Version: 1.12.1 Command: /Library/Frameworks/R.framework/Versions/Current/Resources/bin/R CMD INSTALL BiocOncoTK StartedAt: 2021-10-14 10:17:44 -0400 (Thu, 14 Oct 2021) EndedAt: 2021-10-14 10:18:49 -0400 (Thu, 14 Oct 2021) EllapsedTime: 65.5 seconds RetCode: 0 Status: OK