Package: BiocOncoTK Version: 1.12.1 Command: /home/biocbuild/bbs-3.13-bioc/R/bin/R CMD build --keep-empty-dirs --no-resave-data BiocOncoTK StartedAt: 2021-10-14 06:47:14 -0400 (Thu, 14 Oct 2021) EndedAt: 2021-10-14 06:48:42 -0400 (Thu, 14 Oct 2021) EllapsedTime: 88.2 seconds RetCode: 0 Status: OK PackageFile: BiocOncoTK_1.12.1.tar.gz PackageFileSize: 9.396 MiB