Package: BiocPkgTools Version: 1.10.2 Command: chmod a+r BiocPkgTools -R && C:\Users\biocbuild\bbs-3.13-bioc\R\bin\R.exe CMD build --keep-empty-dirs --no-resave-data BiocPkgTools StartedAt: 2021-10-14 12:03:47 -0400 (Thu, 14 Oct 2021) EndedAt: 2021-10-14 12:06:04 -0400 (Thu, 14 Oct 2021) EllapsedTime: 137.1 seconds RetCode: 0 Status: OK PackageFile: BiocPkgTools_1.10.2.tar.gz PackageFileSize: 1.336 MiB