Package: BiocPkgTools Version: 1.10.2 Command: C:\Users\biocbuild\bbs-3.13-bioc\R\bin\R.exe CMD check --force-multiarch --install=check:BiocPkgTools.install-out.txt --library=C:\Users\biocbuild\bbs-3.13-bioc\R\library --no-vignettes --timings BiocPkgTools_1.10.2.tar.gz StartedAt: 2021-10-14 20:11:51 -0400 (Thu, 14 Oct 2021) EndedAt: 2021-10-14 20:25:48 -0400 (Thu, 14 Oct 2021) EllapsedTime: 836.5 seconds RetCode: 0 Status: OK CheckDir: BiocPkgTools.Rcheck Warnings: 0