Package: BiocPkgTools Version: 1.10.2 Command: C:\cygwin\bin\curl.exe -O http://155.52.207.165/BBS/3.13/bioc/src/contrib/BiocPkgTools_1.10.2.tar.gz && rm -rf BiocPkgTools.buildbin-libdir && mkdir BiocPkgTools.buildbin-libdir && C:\Users\biocbuild\bbs-3.13-bioc\R\bin\R.exe CMD INSTALL --merge-multiarch --build --library=BiocPkgTools.buildbin-libdir BiocPkgTools_1.10.2.tar.gz && C:\Users\biocbuild\bbs-3.13-bioc\R\bin\R.exe CMD INSTALL BiocPkgTools_1.10.2.zip && rm BiocPkgTools_1.10.2.tar.gz BiocPkgTools_1.10.2.zip StartedAt: 2021-10-14 09:54:55 -0400 (Thu, 14 Oct 2021) EndedAt: 2021-10-14 09:55:41 -0400 (Thu, 14 Oct 2021) EllapsedTime: 46.6 seconds RetCode: 0 Status: OK