Package: BiocSingular Version: 1.8.1 Command: /home/biocbuild/bbs-3.13-bioc/R/bin/R CMD build --keep-empty-dirs --no-resave-data BiocSingular StartedAt: 2021-10-14 06:47:32 -0400 (Thu, 14 Oct 2021) EndedAt: 2021-10-14 06:48:15 -0400 (Thu, 14 Oct 2021) EllapsedTime: 42.8 seconds RetCode: 0 Status: OK PackageFile: BiocSingular_1.8.1.tar.gz PackageFileSize: 569.5 KiB