Package: BiocSingular Version: 1.8.1 Command: C:\cygwin\bin\curl.exe -O http://155.52.207.165/BBS/3.13/bioc/src/contrib/BiocSingular_1.8.1.tar.gz && rm -rf BiocSingular.buildbin-libdir && mkdir BiocSingular.buildbin-libdir && C:\Users\biocbuild\bbs-3.13-bioc\R\bin\R.exe CMD INSTALL --merge-multiarch --build --library=BiocSingular.buildbin-libdir BiocSingular_1.8.1.tar.gz && C:\Users\biocbuild\bbs-3.13-bioc\R\bin\R.exe CMD INSTALL BiocSingular_1.8.1.zip && rm BiocSingular_1.8.1.tar.gz BiocSingular_1.8.1.zip StartedAt: 2021-10-14 08:46:47 -0400 (Thu, 14 Oct 2021) EndedAt: 2021-10-14 08:47:43 -0400 (Thu, 14 Oct 2021) EllapsedTime: 55.5 seconds RetCode: 0 Status: OK