Package: BiocStyle Version: 2.20.2 Command: rm -rf BiocStyle.buildbin-libdir && mkdir BiocStyle.buildbin-libdir && C:\Users\biocbuild\bbs-3.13-bioc\R\bin\R.exe CMD INSTALL --merge-multiarch --build --library=BiocStyle.buildbin-libdir BiocStyle_2.20.2.tar.gz StartedAt: 2021-10-15 08:15:13 -0400 (Fri, 15 Oct 2021) EndedAt: 2021-10-15 08:16:44 -0400 (Fri, 15 Oct 2021) EllapsedTime: 91.1 seconds RetCode: 0 Status: OK PackageFile: BiocStyle_2.20.2.zip PackageFileSize: 770.8 KiB