Package: BiocVersion Version: 3.13.1 Command: /Library/Frameworks/R.framework/Versions/Current/Resources/bin/R CMD check --install=check:BiocVersion.install-out.txt --library=/Library/Frameworks/R.framework/Versions/Current/Resources/library --no-vignettes --timings BiocVersion_3.13.1.tar.gz StartedAt: 2021-10-14 16:47:14 -0400 (Thu, 14 Oct 2021) EndedAt: 2021-10-14 16:47:34 -0400 (Thu, 14 Oct 2021) EllapsedTime: 20.0 seconds RetCode: 0 Status: OK CheckDir: BiocVersion.Rcheck Warnings: 0