Package: BiocVersion Version: 3.13.1 Command: /home/biocbuild/bbs-3.13-bioc/R/bin/R CMD check --install=check:BiocVersion.install-out.txt --library=/home/biocbuild/bbs-3.13-bioc/R/library --no-vignettes --timings BiocVersion_3.13.1.tar.gz StartedAt: 2021-10-14 09:02:25 -0400 (Thu, 14 Oct 2021) EndedAt: 2021-10-14 09:02:33 -0400 (Thu, 14 Oct 2021) EllapsedTime: 8.9 seconds RetCode: 0 Status: OK CheckDir: BiocVersion.Rcheck Warnings: 0