Package: BiocVersion Version: 3.13.1 Command: /home/biocbuild/bbs-3.13-bioc/R/bin/R CMD INSTALL BiocVersion StartedAt: 2021-10-14 06:02:00 -0400 (Thu, 14 Oct 2021) EndedAt: 2021-10-14 06:02:14 -0400 (Thu, 14 Oct 2021) EllapsedTime: 14.6 seconds RetCode: 0 Status: OK